BEGIN:VCALENDAR
VERSION:2.0
PRODID:-//Grande Prairie Music Society - ECPv6.15.20//NONSGML v1.0//EN
CALSCALE:GREGORIAN
METHOD:PUBLISH
X-WR-CALNAME:Grande Prairie Music Society
X-ORIGINAL-URL:https://www.gpmusicsociety.com
X-WR-CALDESC:Events for Grande Prairie Music Society
REFRESH-INTERVAL;VALUE=DURATION:PT1H
X-Robots-Tag:noindex
X-PUBLISHED-TTL:PT1H
BEGIN:VTIMEZONE
TZID:America/Edmonton
BEGIN:DAYLIGHT
TZOFFSETFROM:-0700
TZOFFSETTO:-0600
TZNAME:MDT
DTSTART:20250309T090000
END:DAYLIGHT
BEGIN:STANDARD
TZOFFSETFROM:-0600
TZOFFSETTO:-0700
TZNAME:MST
DTSTART:20251102T080000
END:STANDARD
BEGIN:DAYLIGHT
TZOFFSETFROM:-0700
TZOFFSETTO:-0600
TZNAME:MDT
DTSTART:20260308T090000
END:DAYLIGHT
BEGIN:STANDARD
TZOFFSETFROM:-0600
TZOFFSETTO:-0700
TZNAME:MST
DTSTART:20261101T080000
END:STANDARD
BEGIN:DAYLIGHT
TZOFFSETFROM:-0700
TZOFFSETTO:-0600
TZNAME:MDT
DTSTART:20270314T090000
END:DAYLIGHT
BEGIN:STANDARD
TZOFFSETFROM:-0600
TZOFFSETTO:-0700
TZNAME:MST
DTSTART:20271107T080000
END:STANDARD
END:VTIMEZONE
BEGIN:VEVENT
DTSTART;TZID=America/Edmonton:20260425T193000
DTEND;TZID=America/Edmonton:20260425T230000
DTSTAMP:20260421T082556
CREATED:20251104T192205Z
LAST-MODIFIED:20260121T194402Z
UID:10005491-1777145400-1777158000@www.gpmusicsociety.com
SUMMARY:Jazz Band Concert
DESCRIPTION:
URL:https://www.gpmusicsociety.com/event/jazz-band-concert/
LOCATION:Grande Prairie Live Theatre\, 10130 98 Ave\, Grande Prairie\, Alberta\, T8V 0P6\, Canada
CATEGORIES:Concert
END:VEVENT
BEGIN:VEVENT
DTSTART;TZID=America/Edmonton:20260426T143000
DTEND;TZID=America/Edmonton:20260426T170000
DTSTAMP:20260421T082556
CREATED:20251104T192458Z
LAST-MODIFIED:20260121T194113Z
UID:10005493-1777213800-1777222800@www.gpmusicsociety.com
SUMMARY:Symphony and Youth Orchestra Concert
DESCRIPTION:
URL:https://www.gpmusicsociety.com/event/symphony-and-youth-orchestra-concert/
LOCATION:St. Paul's United Church\, 10206 100 Ave.\, Grande Prairie\, AB\, T8V 0V6\, Canada
CATEGORIES:Concert
END:VEVENT
BEGIN:VEVENT
DTSTART;TZID=America/Edmonton:20260430T193000
DTEND;TZID=America/Edmonton:20260430T230000
DTSTAMP:20260421T082556
CREATED:20251104T192324Z
LAST-MODIFIED:20260121T194132Z
UID:10005492-1777577400-1777590000@www.gpmusicsociety.com
SUMMARY:Symphonic Wind Ensemble Concert
DESCRIPTION:
URL:https://www.gpmusicsociety.com/event/symphonic-wind-ensemble-concert/
LOCATION:Douglas J. Cardinal Performing Arts Centre\, 10726-106 Avenue\, Grande Prairie\, AB\, T8V 4C4\, Canada
CATEGORIES:Concert
END:VEVENT
BEGIN:VEVENT
DTSTART;TZID=America/Edmonton:20260624T190000
DTEND;TZID=America/Edmonton:20260624T210000
DTSTAMP:20260421T082556
CREATED:20260327T161534Z
LAST-MODIFIED:20260327T161614Z
UID:10005573-1782327600-1782334800@www.gpmusicsociety.com
SUMMARY:Good Time Band Concert
DESCRIPTION:
URL:https://www.gpmusicsociety.com/event/good-time-band-concert/
LOCATION:Muskoseepi Stage\, 102 Ave and 102 St\, Grande Prairie\, Alberta\, Canada
CATEGORIES:Concert,Live Event,Performance
END:VEVENT
END:VCALENDAR