BEGIN:VCALENDAR
VERSION:2.0
PRODID:-//Grande Prairie Music Society - ECPv6.15.20//NONSGML v1.0//EN
CALSCALE:GREGORIAN
METHOD:PUBLISH
X-ORIGINAL-URL:https://www.gpmusicsociety.com
X-WR-CALDESC:Events for Grande Prairie Music Society
REFRESH-INTERVAL;VALUE=DURATION:PT1H
X-Robots-Tag:noindex
X-PUBLISHED-TTL:PT1H
BEGIN:VTIMEZONE
TZID:America/Edmonton
BEGIN:DAYLIGHT
TZOFFSETFROM:-0700
TZOFFSETTO:-0600
TZNAME:MDT
DTSTART:20250309T090000
END:DAYLIGHT
BEGIN:STANDARD
TZOFFSETFROM:-0600
TZOFFSETTO:-0700
TZNAME:MST
DTSTART:20251102T080000
END:STANDARD
BEGIN:DAYLIGHT
TZOFFSETFROM:-0700
TZOFFSETTO:-0600
TZNAME:MDT
DTSTART:20260308T090000
END:DAYLIGHT
BEGIN:STANDARD
TZOFFSETFROM:-0600
TZOFFSETTO:-0700
TZNAME:MST
DTSTART:20261101T080000
END:STANDARD
BEGIN:DAYLIGHT
TZOFFSETFROM:-0700
TZOFFSETTO:-0600
TZNAME:MDT
DTSTART:20270314T090000
END:DAYLIGHT
BEGIN:STANDARD
TZOFFSETFROM:-0600
TZOFFSETTO:-0700
TZNAME:MST
DTSTART:20271107T080000
END:STANDARD
END:VTIMEZONE
BEGIN:VEVENT
DTSTART;TZID=America/Edmonton:20260124T100000
DTEND;TZID=America/Edmonton:20260124T120000
DTSTAMP:20260421T135852
CREATED:20260105T172904Z
LAST-MODIFIED:20260105T195849Z
UID:10005540-1769248800-1769256000@www.gpmusicsociety.com
SUMMARY:Youth Orchestra - Rehearsals
DESCRIPTION:
URL:https://www.gpmusicsociety.com/event/youth-orchestra-rehearsals/2026-01-24/
LOCATION:St.Paul's United Church (Basement)\, 10206 100 Ave\, Grande Prairie\, Alberta\, T8V 0V6\, Canada
CATEGORIES:Rehearsals
ATTACH;FMTTYPE=image/jpeg:https://www.gpmusicsociety.com/wp-content/uploads/2025/03/youth_orchestra_rehearsals.jpg
END:VEVENT
BEGIN:VEVENT
DTSTART;TZID=America/Edmonton:20260117T100000
DTEND;TZID=America/Edmonton:20260117T120000
DTSTAMP:20260421T135852
CREATED:20260105T172904Z
LAST-MODIFIED:20260105T195849Z
UID:10005490-1768644000-1768651200@www.gpmusicsociety.com
SUMMARY:Youth Orchestra - Rehearsals
DESCRIPTION:
URL:https://www.gpmusicsociety.com/event/youth-orchestra-rehearsals/2026-01-17/
LOCATION:St.Paul's United Church (Basement)\, 10206 100 Ave\, Grande Prairie\, Alberta\, T8V 0V6\, Canada
CATEGORIES:Rehearsals
ATTACH;FMTTYPE=image/jpeg:https://www.gpmusicsociety.com/wp-content/uploads/2025/03/youth_orchestra_rehearsals.jpg
END:VEVENT
BEGIN:VEVENT
DTSTART;TZID=America/Edmonton:20260110T100000
DTEND;TZID=America/Edmonton:20260110T120000
DTSTAMP:20260421T135852
CREATED:20260105T172904Z
LAST-MODIFIED:20260105T195849Z
UID:10005560-1768039200-1768046400@www.gpmusicsociety.com
SUMMARY:Youth Orchestra - Rehearsals
DESCRIPTION:
URL:https://www.gpmusicsociety.com/event/youth-orchestra-rehearsals/2026-01-10/2/
LOCATION:St.Paul's United Church (Basement)\, 10206 100 Ave\, Grande Prairie\, Alberta\, T8V 0V6\, Canada
CATEGORIES:Rehearsals
ATTACH;FMTTYPE=image/jpeg:https://www.gpmusicsociety.com/wp-content/uploads/2025/03/youth_orchestra_rehearsals.jpg
END:VEVENT
BEGIN:VEVENT
DTSTART;TZID=America/Edmonton:20260110T080000
DTEND;TZID=America/Edmonton:20260110T170000
DTSTAMP:20260421T135852
CREATED:20260105T172904Z
LAST-MODIFIED:20260105T195849Z
UID:10005559-1768032000-1768064400@www.gpmusicsociety.com
SUMMARY:Youth Orchestra - Rehearsals
DESCRIPTION:
URL:https://www.gpmusicsociety.com/event/youth-orchestra-rehearsals/2026-01-10/1/
LOCATION:St.Paul's United Church (Basement)\, 10206 100 Ave\, Grande Prairie\, Alberta\, T8V 0V6\, Canada
CATEGORIES:Rehearsals
ATTACH;FMTTYPE=image/jpeg:https://www.gpmusicsociety.com/wp-content/uploads/2025/03/youth_orchestra_rehearsals.jpg
END:VEVENT
END:VCALENDAR